BEGIN:VCALENDAR
VERSION:2.0
PRODID:-//www.ketchikanarts.org//NONSGML kigkonsult.se iCalcreator 2.30.10/
 /
CALSCALE:GREGORIAN
METHOD:PUBLISH
UID:183702a1-7a70-4edd-9f87-33e23f80736f
X-WR-CALDESC:Stop in and discuss any changes you'd like to see in the group
 's normal calendar\, ideas for the Library's Second-Annual National Novel 
 Writing Month coming up this Fall\, and then if you're so inclined\, stick
  around for a potluck and literary-themed board game session. Open to ever
 yone interested in writing. Bring a friend!
X-WR-RELCALID:8f857b9d97c1d05fc54436f96b061bae
X-WR-TIMEZONE:America/Los_Angeles
BEGIN:VTIMEZONE
TZID:America/Los_Angeles
BEGIN:STANDARD
TZNAME:PST
DTSTART:20171105T020000
TZOFFSETFROM:-0700
TZOFFSETTO:-0800
RDATE:20181104T020000
RDATE:20191103T020000
END:STANDARD
BEGIN:DAYLIGHT
TZNAME:PDT
DTSTART:20180311T020000
TZOFFSETFROM:-0800
TZOFFSETTO:-0700
RDATE:20190310T020000
END:DAYLIGHT
END:VTIMEZONE
BEGIN:VEVENT
UID:5a1802f0-173e-4bc8-8d90-67aaae3baba6
DTSTAMP:20260423T061725Z
DESCRIPTION:Stop in and discuss any changes you'd like to see in the group'
 s normal calendar\, ideas for the Library's Second-Annual National Novel W
 riting Month coming up this Fall\, and then if you're so inclined\, stick 
 around for a potluck and literary-themed board game session. Open to every
 one interested in writing. Bring a friend!
DTSTART;TZID=America/Los_Angeles:20180905T180000
DTEND;TZID=America/Los_Angeles:20180905T210000
LOCATION:Ketchikan Public Library
SUMMARY:Fellowship of the Pen
END:VEVENT
END:VCALENDAR
