BEGIN:VCALENDAR
VERSION:2.0
PRODID:-//www.ketchikanarts.org//NONSGML kigkonsult.se iCalcreator 2.30.10/
 /
CALSCALE:GREGORIAN
METHOD:PUBLISH
UID:d8df6073-20f9-4c7d-98f7-d72d3060907a
X-WR-CALDESC:
X-WR-RELCALID:a74d6d9722bfbfae754ae84a352a2a49
X-WR-TIMEZONE:America/Los_Angeles
BEGIN:VTIMEZONE
TZID:America/Los_Angeles
BEGIN:STANDARD
TZNAME:PST
DTSTART:20171105T020000
TZOFFSETFROM:-0700
TZOFFSETTO:-0800
RDATE:20181104T020000
RDATE:20191103T020000
END:STANDARD
BEGIN:DAYLIGHT
TZNAME:PDT
DTSTART:20180311T020000
TZOFFSETFROM:-0800
TZOFFSETTO:-0700
RDATE:20190310T020000
END:DAYLIGHT
END:VTIMEZONE
BEGIN:VEVENT
UID:53a9d5bb-bbda-4608-9e1d-68eb9fc5dd22
DTSTAMP:20260423T073432Z
DESCRIPTION:
DTSTART;TZID=America/Los_Angeles:20180828T080000
DTEND;TZID=America/Los_Angeles:20180828T170000
LOCATION:Tongass Historical Museum
SUMMARY:Temporary Exhibit at the Tongass Historical Museum
END:VEVENT
END:VCALENDAR
