BEGIN:VCALENDAR
VERSION:2.0
PRODID:-//www.ketchikanarts.org//NONSGML kigkonsult.se iCalcreator 2.30.10/
 /
CALSCALE:GREGORIAN
METHOD:PUBLISH
UID:ef667a25-5b07-454c-a003-0c50941968a4
X-WR-CALDESC:
X-WR-RELCALID:58394d3ee5cd6e560caed4e3341b62b1
X-WR-TIMEZONE:America/Los_Angeles
BEGIN:VTIMEZONE
TZID:America/Los_Angeles
BEGIN:STANDARD
TZNAME:PST
DTSTART:20171105T020000
TZOFFSETFROM:-0700
TZOFFSETTO:-0800
RDATE:20181104T020000
RDATE:20191103T020000
END:STANDARD
BEGIN:DAYLIGHT
TZNAME:PDT
DTSTART:20180311T020000
TZOFFSETFROM:-0800
TZOFFSETTO:-0700
RDATE:20190310T020000
END:DAYLIGHT
END:VTIMEZONE
BEGIN:VEVENT
UID:dd810ca6-7afa-4bb6-842c-5fb7a93c530d
DTSTAMP:20260423T073447Z
DESCRIPTION:
DTSTART;TZID=America/Los_Angeles:20180821T080000
DTEND;TZID=America/Los_Angeles:20180821T170000
LOCATION:Tongass Historical Museum
SUMMARY:Temporary Exhibit at the Tongass Historical Museum
END:VEVENT
END:VCALENDAR
