BEGIN:VCALENDAR
VERSION:2.0
PRODID:-//www.ketchikanarts.org//NONSGML kigkonsult.se iCalcreator 2.30.10/
 /
CALSCALE:GREGORIAN
METHOD:PUBLISH
UID:20c2cf7b-b821-42a2-a6ab-e15a8447c80c
X-WR-CALDESC:
X-WR-RELCALID:be5d8d61e933e327559f6b270605da74
X-WR-TIMEZONE:America/Los_Angeles
BEGIN:VTIMEZONE
TZID:America/Los_Angeles
BEGIN:STANDARD
TZNAME:PST
DTSTART:20171105T020000
TZOFFSETFROM:-0700
TZOFFSETTO:-0800
RDATE:20181104T020000
RDATE:20191103T020000
END:STANDARD
BEGIN:DAYLIGHT
TZNAME:PDT
DTSTART:20180311T020000
TZOFFSETFROM:-0800
TZOFFSETTO:-0700
RDATE:20190310T020000
END:DAYLIGHT
END:VTIMEZONE
BEGIN:VEVENT
UID:fb0030e0-9631-48b8-8ab9-fac9ae1623e0
DTSTAMP:20260423T073606Z
DESCRIPTION:
DTSTART;TZID=America/Los_Angeles:20180819T080000
DTEND;TZID=America/Los_Angeles:20180819T170000
LOCATION:Tongass Historical Museum
SUMMARY:Temporary Exhibit at the Tongass Historical Museum
END:VEVENT
END:VCALENDAR
