BEGIN:VCALENDAR
VERSION:2.0
PRODID:-//www.ketchikanarts.org//NONSGML kigkonsult.se iCalcreator 2.30.10/
 /
CALSCALE:GREGORIAN
METHOD:PUBLISH
UID:9eb42991-2f60-4a6e-a8b5-bc956dd6bac7
X-WR-CALDESC:Arts and Seafood Festival
X-WR-RELCALID:e6b4f34575c9a7037116ecef76015dd6
X-WR-TIMEZONE:America/Los_Angeles
BEGIN:VTIMEZONE
TZID:America/Los_Angeles
BEGIN:STANDARD
TZNAME:PST
DTSTART:20171105T020000
TZOFFSETFROM:-0700
TZOFFSETTO:-0800
RDATE:20181104T020000
RDATE:20191103T020000
END:STANDARD
BEGIN:DAYLIGHT
TZNAME:PDT
DTSTART:20180311T020000
TZOFFSETFROM:-0800
TZOFFSETTO:-0700
RDATE:20190310T020000
END:DAYLIGHT
END:VTIMEZONE
BEGIN:VEVENT
UID:2f0f1573-e055-42db-847c-7e322ad4fa77
DTSTAMP:20260423T073816Z
DESCRIPTION:Arts and Seafood Festival
DTSTART;TZID=America/Los_Angeles:20180818T120000
DTEND;TZID=America/Los_Angeles:20180818T200000
LOCATION:Coffman Cove-Prince Of Wales Island
SUMMARY:Coffman Cove's 8th Annual 'By the Sea Arts and Seafood Festival
END:VEVENT
END:VCALENDAR
