BEGIN:VCALENDAR
VERSION:2.0
PRODID:-//www.ketchikanarts.org//NONSGML kigkonsult.se iCalcreator 2.30.10/
 /
CALSCALE:GREGORIAN
METHOD:PUBLISH
UID:2c2baf0e-881d-4f76-9829-41c0a0843f1d
X-WR-CALDESC:
X-WR-RELCALID:127ae524ef80296db8aae8157ebbffe0
X-WR-TIMEZONE:America/Los_Angeles
BEGIN:VTIMEZONE
TZID:America/Los_Angeles
BEGIN:STANDARD
TZNAME:PST
DTSTART:20171105T020000
TZOFFSETFROM:-0700
TZOFFSETTO:-0800
RDATE:20181104T020000
RDATE:20191103T020000
END:STANDARD
BEGIN:DAYLIGHT
TZNAME:PDT
DTSTART:20180311T020000
TZOFFSETFROM:-0800
TZOFFSETTO:-0700
RDATE:20190310T020000
END:DAYLIGHT
END:VTIMEZONE
BEGIN:VEVENT
UID:e9436f39-f38e-4251-8d4b-d2bbd608baa0
DTSTAMP:20260423T073653Z
DESCRIPTION:
DTSTART;TZID=America/Los_Angeles:20180818T080000
DTEND;TZID=America/Los_Angeles:20180818T170000
LOCATION:Tongass Historical Museum
SUMMARY:Temporary Exhibit at the Tongass Historical Museum
END:VEVENT
END:VCALENDAR
