BEGIN:VCALENDAR
VERSION:2.0
PRODID:-//www.ketchikanarts.org//NONSGML kigkonsult.se iCalcreator 2.30.10/
 /
CALSCALE:GREGORIAN
METHOD:PUBLISH
UID:d1318cc0-9ec0-4f71-8a92-63042cd8383f
X-WR-CALDESC:
X-WR-RELCALID:e528a799175c162f3334896774fa6533
X-WR-TIMEZONE:America/Los_Angeles
BEGIN:VTIMEZONE
TZID:America/Los_Angeles
BEGIN:STANDARD
TZNAME:PST
DTSTART:20171105T020000
TZOFFSETFROM:-0700
TZOFFSETTO:-0800
RDATE:20181104T020000
RDATE:20191103T020000
END:STANDARD
BEGIN:DAYLIGHT
TZNAME:PDT
DTSTART:20180311T020000
TZOFFSETFROM:-0800
TZOFFSETTO:-0700
RDATE:20190310T020000
END:DAYLIGHT
END:VTIMEZONE
BEGIN:VEVENT
UID:8ddb7477-eb07-431d-a4bd-b3700496fa72
DTSTAMP:20260423T073653Z
DESCRIPTION:
DTSTART;TZID=America/Los_Angeles:20180817T080000
DTEND;TZID=America/Los_Angeles:20180817T170000
LOCATION:Tongass Historical Museum
SUMMARY:Temporary Exhibit at the Tongass Historical Museum
END:VEVENT
END:VCALENDAR
