BEGIN:VCALENDAR
VERSION:2.0
PRODID:-//www.ketchikanarts.org//NONSGML kigkonsult.se iCalcreator 2.30.10/
 /
CALSCALE:GREGORIAN
METHOD:PUBLISH
UID:209e90d7-a44d-494e-b60c-f23845621cdf
X-WR-CALDESC:Lindy-hop originated in Harlem in the late 1920’s. It is a for
 m of swing dance that evolved in conjunction with jazz music\, but also in
 corporates many other forms of dance. Dancers would incorporate all kinds 
 of dances and moves to individualize the dance and outdo each other in the
  dance halls. The dance closely follows the character of its music. AND\, 
 you can incorporate it with your east coast swing.\n\nIn these sessions we
  will be learning the basics. There will be two hour long classes the firs
 t at 4:15 and the second at 5:30. Then join us at Happy Hour at the Creek 
 Street Cabaret\, you'll have an opportunity to test you new moves and to m
 eet other dancers from all over the world!!!\n
X-WR-RELCALID:9cca8d5da2ad663723348e5f5ba3525d
X-WR-TIMEZONE:America/Los_Angeles
BEGIN:VTIMEZONE
TZID:America/Los_Angeles
BEGIN:STANDARD
TZNAME:PST
DTSTART:20171105T020000
TZOFFSETFROM:-0700
TZOFFSETTO:-0800
RDATE:20181104T020000
RDATE:20191103T020000
END:STANDARD
BEGIN:DAYLIGHT
TZNAME:PDT
DTSTART:20180311T020000
TZOFFSETFROM:-0800
TZOFFSETTO:-0700
RDATE:20190310T020000
END:DAYLIGHT
END:VTIMEZONE
BEGIN:VEVENT
UID:2f5328e2-519f-42c4-8a0d-9c152d394887
DTSTAMP:20260423T073405Z
DESCRIPTION:Lindy-hop originated in Harlem in the late 1920’s. It is a form
  of swing dance that evolved in conjunction with jazz music\, but also inc
 orporates many other forms of dance. Dancers would incorporate all kinds o
 f dances and moves to individualize the dance and outdo each other in the 
 dance halls. The dance closely follows the character of its music. AND\, y
 ou can incorporate it with your east coast swing.\n\nIn these sessions we 
 will be learning the basics. There will be two hour long classes the first
  at 4:15 and the second at 5:30. Then join us at Happy Hour at the Creek S
 treet Cabaret\, you'll have an opportunity to test you new moves and to me
 et other dancers from all over the world!!!\n
DTSTART;TZID=America/Los_Angeles:20180810T161500
DTEND;TZID=America/Los_Angeles:20180810T183000
LOCATION:Main Street Gallery
SUMMARY:BOOMbal Lindy-Hop Class with Special Guest Instructors!!!
END:VEVENT
END:VCALENDAR
