BEGIN:VCALENDAR
VERSION:2.0
PRODID:-//www.ketchikanarts.org//NONSGML kigkonsult.se iCalcreator 2.30.10/
 /
CALSCALE:GREGORIAN
METHOD:PUBLISH
UID:859fc0d8-08ba-40ff-b808-93e5a0374d34
X-WR-CALDESC:End Blueberry Saturday with some saucy dinosaur music!!!  $5 a
 t the door.
X-WR-RELCALID:cecd75055170464cd1fa5c47fe506833
X-WR-TIMEZONE:America/Los_Angeles
BEGIN:VTIMEZONE
TZID:America/Los_Angeles
BEGIN:STANDARD
TZNAME:PST
DTSTART:20171105T020000
TZOFFSETFROM:-0700
TZOFFSETTO:-0800
RDATE:20181104T020000
RDATE:20191103T020000
END:STANDARD
BEGIN:DAYLIGHT
TZNAME:PDT
DTSTART:20180311T020000
TZOFFSETFROM:-0800
TZOFFSETTO:-0700
RDATE:20190310T020000
END:DAYLIGHT
END:VTIMEZONE
BEGIN:VEVENT
UID:be799c72-24c5-4900-a162-650cbac78d64
DTSTAMP:20260423T073110Z
DESCRIPTION:End Blueberry Saturday with some saucy dinosaur music!!!  $5 at
  the door.
DTSTART;TZID=America/Los_Angeles:20180804T200000
DTEND;TZID=America/Los_Angeles:20180804T230000
LOCATION:Creek Street Cabaret
SUMMARY:Ratfish Wranglers
END:VEVENT
END:VCALENDAR
