BEGIN:VCALENDAR
VERSION:2.0
PRODID:-//www.ketchikanarts.org//NONSGML kigkonsult.se iCalcreator 2.30.10/
 /
CALSCALE:GREGORIAN
METHOD:PUBLISH
UID:4c133c51-86eb-4e1a-91a8-9e7c7f7dfc1b
X-WR-CALDESC:Blueberry Arts Festival Art Exhibit\nOPENING RECEPTION: Friday
 \, August 3\, 5-7:00pm\n\nThis annual open-call exhibit is always full of 
 amazing variety and inspiration!  Open to artists of all ages working in a
 ny medium\, awards are given for 1st-3rd Place Adult\, 1st Place Youth\, A
 dult and Youth Honorable Mention\, and People’s Choice. You can enjoy this
  exhibit throughout the month of August. \n\nMain Street Gallery hours of 
 operation: \n9:00 am – 6:00 pm Monday-Wednesday & Friday\n10:00 am – 6:00 
 pm Thursday\n11:00 am – 3:00 pm on Saturdays
X-WR-RELCALID:6105cc6dea907ac6a9f5c4204f6c1862
X-WR-TIMEZONE:America/Chicago
BEGIN:VTIMEZONE
TZID:America/Chicago
BEGIN:STANDARD
TZNAME:CST
DTSTART:20171105T020000
TZOFFSETFROM:-0500
TZOFFSETTO:-0600
RDATE:20181104T020000
RDATE:20191103T020000
END:STANDARD
BEGIN:DAYLIGHT
TZNAME:CDT
DTSTART:20180311T020000
TZOFFSETFROM:-0600
TZOFFSETTO:-0500
RDATE:20190310T020000
END:DAYLIGHT
END:VTIMEZONE
BEGIN:VEVENT
UID:562717d2-ce2e-4fed-b9a2-23b7bf1028c9
DTSTAMP:20260423T073335Z
DESCRIPTION:Blueberry Arts Festival Art Exhibit\nOPENING RECEPTION: Friday\
 , August 3\, 5-7:00pm\n\nThis annual open-call exhibit is always full of a
 mazing variety and inspiration!  Open to artists of all ages working in an
 y medium\, awards are given for 1st-3rd Place Adult\, 1st Place Youth\, Ad
 ult and Youth Honorable Mention\, and People’s Choice. You can enjoy this 
 exhibit throughout the month of August. \n\nMain Street Gallery hours of o
 peration: \n9:00 am – 6:00 pm Monday-Wednesday & Friday\n10:00 am – 6:00 p
 m Thursday\n11:00 am – 3:00 pm on Saturdays
DTSTART;TZID=America/Chicago:20180805T000000
DTEND;TZID=America/Chicago:20180831T055900
LOCATION:Main Street Gallery\, 330 Main Street
SUMMARY:Blueberry Arts Festival Exhibit
END:VEVENT
END:VCALENDAR
