BEGIN:VCALENDAR
VERSION:2.0
PRODID:-//www.ketchikanarts.org//NONSGML kigkonsult.se iCalcreator 2.30.10/
 /
CALSCALE:GREGORIAN
METHOD:PUBLISH
UID:b9df6f0f-4525-41af-9684-c345df487dc7
X-WR-CALDESC:Bring you most delectable creation to the Main Street Gallery 
 by 3pm on Friday\, August 3rd. The following applies....\n\nâ€¢	Up to two rec
 ipes will be accepted.\nâ€¢	Your dish may be savory or sweet.\nâ€¢	Your dish sho
 uld make a full recipe that will allow for a minimum of 12 sample servings
 .\nâ€¢	The predominant flavor profile must beâ€¦BLUEBERRIES!!!\nâ€¢	The dish must 
 be an original recipe OR your own personal adaptation of a recipe. \nâ€¢	Your
  dish will be presented at the opening of the Blueberry Arts Festival Art 
 Exhibit.\n\nWait for it.....wait for it....\n\nâ€¢	The winning dish will be f
 eatured on the specials menu for the month of August at the New York Cafe!
 !!!!!!!!  Aaaaahhhh!!!! Swoon!\n\nWhen you drop your dish off you will be 
 asked to fill out an information card. In addition to your name and the na
 me of your dish we will want to know if your dish contains any known aller
 gens. Please put your name and phone number on your plate. \n\nPrizes will
  be award for \n\n1st Prize - \nFame and glory on the specials menu at the
  New York Cafe for the rest of August\nA $50 gift certificate to New York 
 Cafe\nA Blueberry Arts Festival tshirt\n\n2nd prize - \nA $50 gift certifi
 cate to Bernie's\nA Blueberry Arts Festival tshirt\n\n3rd prize - \nA $50 
 gift certificate to Tatsuda's IGA\nA Blueberry Arts Festival tshirt\n\nIn 
 addition to the prizes above\, attendees to the Opening Reception of the B
 lueberry Arts Festival Art Exhibit will taste all entries and will be able
  to vote for People's Choice!!! \n\nPeople's Choice - \nA $50 gift certifi
 cate from Simply Bella\n\nAll entrants are VERY welcome to attend the Open
 ing Reception of the Blueberry Arts Festival Art Exhibit and enjoy the acc
 olades uttered for your delicious creation! Please remember to take your p
 late home after the reception or at you earliest convenience. \n\n
X-WR-RELCALID:0e52455a91c23f9bf9d6dac81cc6da33
X-WR-TIMEZONE:America/Los_Angeles
BEGIN:VTIMEZONE
TZID:America/Los_Angeles
BEGIN:STANDARD
TZNAME:PST
DTSTART:20171105T020000
TZOFFSETFROM:-0700
TZOFFSETTO:-0800
RDATE:20181104T020000
RDATE:20191103T020000
END:STANDARD
BEGIN:DAYLIGHT
TZNAME:PDT
DTSTART:20180311T020000
TZOFFSETFROM:-0800
TZOFFSETTO:-0700
RDATE:20190310T020000
END:DAYLIGHT
END:VTIMEZONE
BEGIN:VEVENT
UID:a28d81ef-c949-40c0-b86c-3b5b249b52cb
DTSTAMP:20260423T073109Z
DESCRIPTION:Bring you most delectable creation to the Main Street Gallery b
 y 3pm on Friday\, August 3rd. The following applies....\n\nâ€¢	Up to two reci
 pes will be accepted.\nâ€¢	Your dish may be savory or sweet.\nâ€¢	Your dish shou
 ld make a full recipe that will allow for a minimum of 12 sample servings.
 \nânâ	The predominant flavor profile must beâ€¦BLUEBERRIES!!!\nâ€¢	The dish must b
 e an original recipe OR your own personal adaptation of a recipe. \nâ€¢	Your 
 dish will be presented at the opening of the Blueberry Arts Festival Art E
 xhibit.\n\nWait for it.....wait for it....\n\nâ€¢	The winning dish will be fe
 atured on the specials menu for the month of August at the New York Cafe!!
 !!!!!!!  Aaaaahhhh!!!! Swoon!\n\nWhen you drop your dish off you will be a
 sked to fill out an information card. In addition to your name and the nam
 e of your dish we will want to know if your dish contains any known allerg
 ens. Please put your name and phone number on your plate. \n\nPrizes will 
 be award for \n\n1st Prize - \nFame and glory on the specials menu at the 
 New York Cafe for the rest of August\nA $50 gift certificate to New York C
 afe\nA Blueberry Arts Festival tshirt\n\n2nd prize - \nA $50 gift certific
 ate to Bernie's\nA Blueberry Arts Festival tshirt\n\n3rd prize - \nA $50 g
 ift certificate to Tatsuda's IGA\nA Blueberry Arts Festival tshirt\n\nIn a
 ddition to the prizes above\, attendees to the Opening Reception of the Bl
 ueberry Arts Festival Art Exhibit will taste all entries and will be able 
 to vote for People's Choice!!! \n\nPeople's Choice - \nA $50 gift certific
 ate from Simply Bella\n\nAll entrants are VERY welcome to attend the Openi
 ng Reception of the Blueberry Arts Festival Art Exhibit and enjoy the acco
 lades uttered for your delicious creation! Please remember to take your pl
 ate home after the reception or at you earliest convenience. \n\n
DTSTART;TZID=America/Los_Angeles:20180803T150000
DTEND;TZID=America/Los_Angeles:20180803T190000
LOCATION:Main Street Gallery   330 Main Street
SUMMARY:Best Blueberry Dish Contest
END:VEVENT
END:VCALENDAR
