BEGIN:VCALENDAR
VERSION:2.0
PRODID:-//www.ketchikanarts.org//NONSGML kigkonsult.se iCalcreator 2.30.10/
 /
CALSCALE:GREGORIAN
METHOD:PUBLISH
UID:948ebe1c-22f4-4caa-afb9-d00ca2540ca5
X-WR-CALDESC:
X-WR-RELCALID:951eb2cc17d89dc83e20083c7241f84b
X-WR-TIMEZONE:America/Chicago
BEGIN:VTIMEZONE
TZID:America/Chicago
BEGIN:STANDARD
TZNAME:CST
DTSTART:20171105T020000
TZOFFSETFROM:-0500
TZOFFSETTO:-0600
RDATE:20181104T020000
RDATE:20191103T020000
END:STANDARD
BEGIN:DAYLIGHT
TZNAME:CDT
DTSTART:20180311T020000
TZOFFSETFROM:-0600
TZOFFSETTO:-0500
RDATE:20190310T020000
END:DAYLIGHT
END:VTIMEZONE
BEGIN:VEVENT
UID:1ab6feea-871c-4825-a719-71e023c87d6e
DTSTAMP:20260423T105738Z
DESCRIPTION:
DTSTART;TZID=America/Chicago:20180625T000000
DTEND;TZID=America/Chicago:20180625T235900
LOCATION:Creek Street Cabaret
SUMMARY:Musicians Wanted for Summer Music at Creek Street Cabaret
END:VEVENT
END:VCALENDAR
