BEGIN:VCALENDAR
VERSION:2.0
PRODID:-//www.ketchikanarts.org//NONSGML kigkonsult.se iCalcreator 2.30.10/
 /
CALSCALE:GREGORIAN
METHOD:PUBLISH
UID:4b06af79-860b-4d2b-923b-bb2a2ff5a335
X-WR-CALDESC:Artists of Ketchikan\nJune 1-July 27\, 2018\n\nOPENING RECEPTI
 ON: Friday\, June 1\, 5-7:00pm\n\nThe Ketchikan Area Arts and Humanities C
 ouncil and the Main Street Gallery Committee set aside the months of June 
 and July for the annual Artists of Ketchikan Invitational Exhibit. This ex
 hibit at the Main Street Gallery offers an introduction for our summertime
  visitors to the amazing and varied artists of our community!\n\nMain Stre
 et Gallery hours of operation: \n9:00 am – 6:00 pm Monday-Wednesday & Frid
 ay\n10:00 am – 6:00 pm Thursday\n11:00 am – 3:00 pm on Saturdays
X-WR-RELCALID:4921044f24af61770dba48a24e8fd6d3
X-WR-TIMEZONE:America/Chicago
BEGIN:VTIMEZONE
TZID:America/Chicago
BEGIN:STANDARD
TZNAME:CST
DTSTART:20171105T020000
TZOFFSETFROM:-0500
TZOFFSETTO:-0600
RDATE:20181104T020000
RDATE:20191103T020000
END:STANDARD
BEGIN:DAYLIGHT
TZNAME:CDT
DTSTART:20180311T020000
TZOFFSETFROM:-0600
TZOFFSETTO:-0500
RDATE:20190310T020000
END:DAYLIGHT
END:VTIMEZONE
BEGIN:VEVENT
UID:1852bd1c-0964-4a31-b23a-d60964b64f1e
DTSTAMP:20260423T091710Z
DESCRIPTION:Artists of Ketchikan\nJune 1-July 27\, 2018\n\nOPENING RECEPTIO
 N: Friday\, June 1\, 5-7:00pm\n\nThe Ketchikan Area Arts and Humanities Co
 uncil and the Main Street Gallery Committee set aside the months of June a
 nd July for the annual Artists of Ketchikan Invitational Exhibit. This exh
 ibit at the Main Street Gallery offers an introduction for our summertime 
 visitors to the amazing and varied artists of our community!\n\nMain Stree
 t Gallery hours of operation: \n9:00 am – 6:00 pm Monday-Wednesday & Frida
 y\n10:00 am – 6:00 pm Thursday\n11:00 am – 3:00 pm on Saturdays
DTSTART;TZID=America/Chicago:20180602T000000
DTEND;TZID=America/Chicago:20180727T235900
LOCATION:Main Street Gallery\, 330 Main Street
SUMMARY:“Artists of Ketchikan” Exhibit
END:VEVENT
END:VCALENDAR
