BEGIN:VCALENDAR
VERSION:2.0
PRODID:-//www.ketchikanarts.org//NONSGML kigkonsult.se iCalcreator 2.30.10/
 /
CALSCALE:GREGORIAN
METHOD:PUBLISH
UID:bf00b3b8-881d-4fda-8261-71835545da7f
X-WR-CALDESC:The Alaska Folk Festival is seeking submissions for the 49th A
 nnual Folk Festival poster artwork. All interested Alaskan individuals / a
 rtists are invited to apply. The short application includes a rough sketch
  of your concept\, a brief bio\, and a description of what you’d like to p
 roduce for the artwork. Submissions are due October 1.The winning submissi
 on is offered a $500 stipend. Read more and apply at the link in bio!
X-WR-RELCALID:ebc42f22c30ad98c8e43589f95d00981
X-WR-TIMEZONE:America/Anchorage
BEGIN:VTIMEZONE
TZID:America/Anchorage
BEGIN:STANDARD
TZNAME:AKST
DTSTART:20221106T020000
TZOFFSETFROM:-0800
TZOFFSETTO:-0900
RDATE:20231105T020000
RDATE:20241103T020000
END:STANDARD
BEGIN:DAYLIGHT
TZNAME:AKDT
DTSTART:20230312T020000
TZOFFSETFROM:-0900
TZOFFSETTO:-0800
RDATE:20240310T020000
RDATE:20250309T020000
END:DAYLIGHT
END:VTIMEZONE
BEGIN:VEVENT
UID:ede0d891-2f2b-460c-833a-747fff9d74e3
DTSTAMP:20260421T100552Z
DESCRIPTION:The Alaska Folk Festival is seeking submissions for the 49th An
 nual Folk Festival poster artwork. All interested Alaskan individuals / ar
 tists are invited to apply. The short application includes a rough sketch 
 of your concept\, a brief bio\, and a description of what you’d like to pr
 oduce for the artwork. Submissions are due October 1.The winning submissio
 n is offered a $500 stipend. Read more and apply at the link in bio!
DTSTART;TZID=America/Anchorage:20231001T123000
DTEND;TZID=America/Anchorage:20231001T133000
LOCATION:
SUMMARY:Alaska Folk Festival Call to Artists
END:VEVENT
END:VCALENDAR
