BEGIN:VCALENDAR
VERSION:2.0
PRODID:-//www.ketchikanarts.org//NONSGML kigkonsult.se iCalcreator 2.30.10/
 /
CALSCALE:GREGORIAN
METHOD:PUBLISH
UID:16a80dc4-ae6e-4ee2-b324-b451052c8a41
X-WR-CALDESC:
X-WR-RELCALID:038831ba3c4996fb3997fe0fd7c93d91
X-WR-TIMEZONE:America/Anchorage
BEGIN:VTIMEZONE
TZID:America/Anchorage
BEGIN:STANDARD
TZNAME:AKST
DTSTART:20251102T020000
TZOFFSETFROM:-0800
TZOFFSETTO:-0900
RDATE:20261101T020000
RDATE:20271107T020000
END:STANDARD
BEGIN:DAYLIGHT
TZNAME:AKDT
DTSTART:20260308T020000
TZOFFSETFROM:-0900
TZOFFSETTO:-0800
RDATE:20270314T020000
END:DAYLIGHT
END:VTIMEZONE
BEGIN:VEVENT
UID:4e81616f-5bba-4134-87d7-a278748fd5d5
DTSTAMP:20260422T185336Z
DESCRIPTION:
DTSTART;TZID=America/Anchorage:20260524T100000
DTEND;TZID=America/Anchorage:20260524T140000
LOCATION:Craig City Gym
SUMMARY:Craig City Market - Craig\, AK
END:VEVENT
END:VCALENDAR
