BEGIN:VCALENDAR
VERSION:2.0
PRODID:-//www.ketchikanarts.org//NONSGML kigkonsult.se iCalcreator 2.30.10/
 /
CALSCALE:GREGORIAN
METHOD:PUBLISH
UID:e3a41584-c30b-461f-8a7f-7bce6f7d1d87
X-WR-CALDESC:
X-WR-RELCALID:fa078a9d2f9a56fd363eba610b931083
X-WR-TIMEZONE:America/Anchorage
BEGIN:VTIMEZONE
TZID:America/Anchorage
BEGIN:STANDARD
TZNAME:AKST
DTSTART:20251102T020000
TZOFFSETFROM:-0800
TZOFFSETTO:-0900
RDATE:20261101T020000
END:STANDARD
BEGIN:DAYLIGHT
TZNAME:AKDT
DTSTART:20260308T020000
TZOFFSETFROM:-0900
TZOFFSETTO:-0800
RDATE:20270314T020000
END:DAYLIGHT
END:VTIMEZONE
BEGIN:VEVENT
UID:2925dbbd-b818-4ae2-81a4-802d009ca99a
DTSTAMP:20260422T184849Z
DESCRIPTION:
DTSTART;TZID=America/Anchorage:20260430T020000
DTEND;TZID=America/Anchorage:20260430T020001
LOCATION:712 Water St.
SUMMARY:Ketchikan Story Telling Time - Call to Storytellers
END:VEVENT
END:VCALENDAR
